BEGIN:VCALENDAR
VERSION:2.0
PRODID:-//Paint &amp; Pour - ECPv2.0.11//NONSGML v1.0//EN
CALSCALE:GREGORIAN
METHOD:PUBLISH
X-WR-CALNAME:Paint &amp; Pour
X-ORIGINAL-URL:https://thepaintandpour.com
X-WR-CALDESC:Events for Paint &amp; Pour
X-WR-TIMEZONE:America/Detroit
BEGIN:VEVENT
DTSTART;VALUE=DATE-TIME:20180217T153000
DTEND;VALUE=DATE-TIME:20180217T173000.000000
DTSTAMP:20260421T160533
CREATED:20171211T132423
LAST-MODIFIED:20171211T132423
UID:372887-1518881400-@https://thepaintandpour.com
SUMMARY:Whimsical Sunrise  - Feb 17th 3:30-5:30 PM
DESCRIPTION:&nbsp;  Whimsical Sunrise  &nbsp;    Are YOU interested in having a private party with us?    Paint and Pour offers an incredible new way to spice up your next event. Let our Entertainer/Instructors guide your guests through an evening of art and merriment\, and they’ll be sure to talk about it for weeks! Paint and Pour private parties are great for ANY event\, so don’t hesitate.    Call us at (734) 720-9777 or Contact Us today to schedule your Paint Party!
LOCATION:5 S Washington St, Ypsilanti, MI, 48197, United States
URL:https://thepaintandpour.com/event/whimsical-sunrise-feb-17th-330-530-pm/
END:VEVENT
END:VCALENDAR