BEGIN:VCALENDAR
VERSION:2.0
PRODID:-//Paint &amp; Pour - ECPv2.0.11//NONSGML v1.0//EN
CALSCALE:GREGORIAN
METHOD:PUBLISH
X-WR-CALNAME:Paint &amp; Pour
X-ORIGINAL-URL:https://thepaintandpour.com
X-WR-CALDESC:Events for Paint &amp; Pour
X-WR-TIMEZONE:America/Detroit
BEGIN:VEVENT
DTSTART;VALUE=DATE-TIME:20190830T190000
DTEND;VALUE=DATE-TIME:20190830T210000.000000
DTSTAMP:20260425T112020
CREATED:20190716T125840
LAST-MODIFIED:20190716T125840
UID:477937-1567191600-@https://thepaintandpour.com
SUMMARY:Welcoming Night - Aug 30th 7-9 PM
DESCRIPTION:Welcoming Night
LOCATION:5 S Washington St, Ypsilanti, MI, 48197, United States
URL:https://thepaintandpour.com/event/welcoming-night-aug-30th-7-9-pm/
END:VEVENT
END:VCALENDAR