BEGIN:VCALENDAR
VERSION:2.0
PRODID:-//Paint &amp; Pour - ECPv2.0.11//NONSGML v1.0//EN
CALSCALE:GREGORIAN
METHOD:PUBLISH
X-WR-CALNAME:Paint &amp; Pour
X-ORIGINAL-URL:https://thepaintandpour.com
X-WR-CALDESC:Events for Paint &amp; Pour
X-WR-TIMEZONE:America/Detroit
BEGIN:VEVENT
DTSTART;VALUE=DATE-TIME:20190115T120000
DTEND;VALUE=DATE-TIME:20190115T140000.000000
DTSTAMP:20260423T155647
CREATED:20190113T153156
LAST-MODIFIED:20190113T153156
UID:422565-1547553600-@https://thepaintandpour.com
SUMMARY:Warrior Women Retreat - Serengeti Sunrise - Jan 15th 12-2 PM
DESCRIPTION:  Serengeti Sunrise  Warrior Women Retreat  PRIVATE PARTY  
LOCATION:22000 Michigan Ave, Dearborn, MI, 48124, United States
URL:https://thepaintandpour.com/event/warrior-women-retreat-serengeti-sunrise-jan-15th-12-2-pm/
END:VEVENT
END:VCALENDAR