BEGIN:VCALENDAR
VERSION:2.0
PRODID:-//Paint &amp; Pour - ECPv2.0.11//NONSGML v1.0//EN
CALSCALE:GREGORIAN
METHOD:PUBLISH
X-WR-CALNAME:Paint &amp; Pour
X-ORIGINAL-URL:https://thepaintandpour.com
X-WR-CALDESC:Events for Paint &amp; Pour
X-WR-TIMEZONE:America/Detroit
BEGIN:VEVENT
DTSTART;VALUE=DATE-TIME:20190202T190000
DTEND;VALUE=DATE-TIME:20190202T210000.000000
DTSTAMP:20260425T131037
CREATED:20181209T181229
LAST-MODIFIED:20190214T111001
UID:419214-1549134000-@https://thepaintandpour.com
SUMMARY:Warm Rain - Feb 2nd 7-9 PM
DESCRIPTION:&nbsp;  Warm Rain  &nbsp;
LOCATION:22000 Michigan Ave, Dearborn, MI, 48124, United States
URL:https://thepaintandpour.com/event/warm-rain-feb-2nd-7-9-pm/
END:VEVENT
END:VCALENDAR