BEGIN:VCALENDAR
VERSION:2.0
PRODID:-//Paint &amp; Pour - ECPv2.0.11//NONSGML v1.0//EN
CALSCALE:GREGORIAN
METHOD:PUBLISH
X-WR-CALNAME:Paint &amp; Pour
X-ORIGINAL-URL:https://thepaintandpour.com
X-WR-CALDESC:Events for Paint &amp; Pour
X-WR-TIMEZONE:America/Detroit
BEGIN:VEVENT
DTSTART;VALUE=DATE-TIME:20190922T180000
DTEND;VALUE=DATE-TIME:20190922T200000.000000
DTSTAMP:20260424T001800
CREATED:20190819T140935
LAST-MODIFIED:20190908T135929
UID:503673-1569175200-@https://thepaintandpour.com
SUMMARY:Violet Moon on the Huron - Sep 22nd 6-8 PM
DESCRIPTION:Violet Moon on the Huron
LOCATION:5 S Washington St, Ypsilanti, MI, 48197, United States
URL:https://thepaintandpour.com/event/violet-moon-on-the-huron-sep-22nd-6-8-pm/
END:VEVENT
END:VCALENDAR