BEGIN:VCALENDAR
VERSION:2.0
PRODID:-//Paint &amp; Pour - ECPv2.0.11//NONSGML v1.0//EN
CALSCALE:GREGORIAN
METHOD:PUBLISH
X-WR-CALNAME:Paint &amp; Pour
X-ORIGINAL-URL:https://thepaintandpour.com
X-WR-CALDESC:Events for Paint &amp; Pour
X-WR-TIMEZONE:America/Detroit
BEGIN:VEVENT
DTSTART;VALUE=DATE-TIME:20190303T180000
DTEND;VALUE=DATE-TIME:20190303T200000.000000
DTSTAMP:20260423T094503
CREATED:20190113T225033
LAST-MODIFIED:20190113T225033
UID:422631-1551636000-@https://thepaintandpour.com
SUMMARY:Turn to the Sun - Mar 3rd 6-8 PM
DESCRIPTION:&nbsp;  Turn to the Sun  &nbsp;
LOCATION:5 S Washington St, Ypsilanti, MI, 48197, United States
URL:https://thepaintandpour.com/event/turn-to-the-sun-mar-3rd-6-8-pm/
END:VEVENT
END:VCALENDAR