BEGIN:VCALENDAR
VERSION:2.0
PRODID:-//Paint &amp; Pour - ECPv2.0.11//NONSGML v1.0//EN
CALSCALE:GREGORIAN
METHOD:PUBLISH
X-WR-CALNAME:Paint &amp; Pour
X-ORIGINAL-URL:https://thepaintandpour.com
X-WR-CALDESC:Events for Paint &amp; Pour
X-WR-TIMEZONE:America/Detroit
BEGIN:VEVENT
DTSTART;VALUE=DATE-TIME:20190104T190000
DTEND;VALUE=DATE-TIME:20190104T210000.000000
DTSTAMP:20260424T072002
CREATED:20181129T001002
LAST-MODIFIED:20181129T001002
UID:414457-1546628400-@https://thepaintandpour.com
SUMMARY:Tropical Moonrise - Jan 4th 7-9 PM
DESCRIPTION:Tropical Moonrise  &nbsp;
LOCATION:10866 Cedar Lake Rd, Pinckney, MI, 48169, United States
URL:https://thepaintandpour.com/event/tropical-moonrise-jan-4th-7-9-pm/
END:VEVENT
END:VCALENDAR