BEGIN:VCALENDAR
VERSION:2.0
PRODID:-//Paint &amp; Pour - ECPv2.0.11//NONSGML v1.0//EN
CALSCALE:GREGORIAN
METHOD:PUBLISH
X-WR-CALNAME:Paint &amp; Pour
X-ORIGINAL-URL:https://thepaintandpour.com
X-WR-CALDESC:Events for Paint &amp; Pour
X-WR-TIMEZONE:America/Detroit
BEGIN:VEVENT
DTSTART;VALUE=DATE-TIME:20180909T120000
DTEND;VALUE=DATE-TIME:20180909T140000.000000
DTSTAMP:20260424T045346
CREATED:20180907T162337
LAST-MODIFIED:20180907T162337
UID:401381-1536494400-@https://thepaintandpour.com
SUMMARY:Trisha's 12th Birthday - Marsha's Flutterby - Sep 9th 12-2 PM
DESCRIPTION:  Marsha's Flutterby  Trisha's 12th Birthday  PRIVATE PARTY
LOCATION:111 South West St, Brighton, MI, 48116, United States
URL:https://thepaintandpour.com/event/trishas-12th-birthday-marshas-flutterby-sep-9th-12-2-pm/
END:VEVENT
END:VCALENDAR