BEGIN:VCALENDAR
VERSION:2.0
PRODID:-//Paint &amp; Pour - ECPv2.0.11//NONSGML v1.0//EN
CALSCALE:GREGORIAN
METHOD:PUBLISH
X-WR-CALNAME:Paint &amp; Pour
X-ORIGINAL-URL:https://thepaintandpour.com
X-WR-CALDESC:Events for Paint &amp; Pour
X-WR-TIMEZONE:America/Detroit
BEGIN:VEVENT
DTSTART;VALUE=DATE-TIME:20180613T190000
DTEND;VALUE=DATE-TIME:20180613T210000.000000
DTSTAMP:20260425T145637
CREATED:20180409T222250
LAST-MODIFIED:20180409T222250
UID:384884-1528916400-@https://thepaintandpour.com
SUMMARY:Tree of Life - Jun 13th 7-9 PM
DESCRIPTION:&nbsp;  Tree of Life  &nbsp;
LOCATION:111 South West St, Brighton, MI, 48116, United States
URL:https://thepaintandpour.com/event/tree-of-life-jun-13th-7-9-pm/
END:VEVENT
END:VCALENDAR