BEGIN:VCALENDAR
VERSION:2.0
PRODID:-//Paint &amp; Pour - ECPv2.0.11//NONSGML v1.0//EN
CALSCALE:GREGORIAN
METHOD:PUBLISH
X-WR-CALNAME:Paint &amp; Pour
X-ORIGINAL-URL:https://thepaintandpour.com
X-WR-CALDESC:Events for Paint &amp; Pour
X-WR-TIMEZONE:America/Detroit
BEGIN:VEVENT
DTSTART;VALUE=DATE-TIME:20190817T190000
DTEND;VALUE=DATE-TIME:20190817T210000.000000
DTSTAMP:20260423T151525
CREATED:20190716T123108
LAST-MODIFIED:20190716T123108
UID:477927-1566068400-@https://thepaintandpour.com
SUMMARY:Tree of Life - Aug 17th 7-9 PM
DESCRIPTION:Tree of Life
LOCATION:5 S Washington St, Ypsilanti, MI, 48197, United States
URL:https://thepaintandpour.com/event/tree-of-life-aug-17th-7-9-pm/
END:VEVENT
END:VCALENDAR