BEGIN:VCALENDAR
VERSION:2.0
PRODID:-//Paint &amp; Pour - ECPv2.0.11//NONSGML v1.0//EN
CALSCALE:GREGORIAN
METHOD:PUBLISH
X-WR-CALNAME:Paint &amp; Pour
X-ORIGINAL-URL:https://thepaintandpour.com
X-WR-CALDESC:Events for Paint &amp; Pour
X-WR-TIMEZONE:America/Detroit
BEGIN:VEVENT
DTSTART;VALUE=DATE-TIME:20190202T120000
DTEND;VALUE=DATE-TIME:20190202T140000.000000
DTSTAMP:20260423T111538
CREATED:20181021T232124
LAST-MODIFIED:20190124T170645
UID:405384-1549108800-@https://thepaintandpour.com
SUMMARY:Thriving Minds Winter Party - Tree of Life - Feb 2nd 12-2 PM
DESCRIPTION:  Tree of Life  Thriving Minds Winter Party  PRIVATE PARTY  
LOCATION:111 South West St, Brighton, MI, 48116, United States
URL:https://thepaintandpour.com/event/thriving-minds-winter-party-tree-of-life-feb-2nd-12-2-pm/
END:VEVENT
END:VCALENDAR