BEGIN:VCALENDAR
VERSION:2.0
PRODID:-//Paint &amp; Pour - ECPv2.0.11//NONSGML v1.0//EN
CALSCALE:GREGORIAN
METHOD:PUBLISH
X-WR-CALNAME:Paint &amp; Pour
X-ORIGINAL-URL:https://thepaintandpour.com
X-WR-CALDESC:Events for Paint &amp; Pour
X-WR-TIMEZONE:America/Detroit
BEGIN:VEVENT
DTSTART;VALUE=DATE-TIME:20180104T190000
DTEND;VALUE=DATE-TIME:20180104T210000.000000
DTSTAMP:20260424T132440
CREATED:20171110T021730
LAST-MODIFIED:20171110T021730
UID:370439-1515092400-@https://thepaintandpour.com
SUMMARY:Thirsty Thursday - Wine Glass / Beer Mug Painting - Jan 4th 7-9 PM
DESCRIPTION:&nbsp;  "Thirsty Thursday!"  Wine Glass / Beer Mug Painting  &nbsp;    Paint and Pour is now offering something new… Wine Glass / Beer Mug Painting! Guests can paint wine glasses / beer mugs with their own fanciful designs and take them home. Our Artists will help you choose your own unique design\, and each studio will have several samples for you to refer to for inspiration.    We provide each painter with 2 glasses (wine and/or beer mug)\, as well as the various brushes and art supplies required to complete the project. Bring in your friends and a bottle of wine\, and make it a party!    Are YOU interested in having a private party with us?    Paint and Pour offers an incredible new way to spice up your next event. Let our Entertainer/Instructors guide your guests through an evening of art and merriment\, and they’ll be sure to talk about it for weeks! Paint and Pour private parties are great for ANY event\, so don’t hesitate.    Call us at (734) 720-9777 or Contact Us today to schedule your Paint Party!
LOCATION:111 South West St, Brighton, MI, 48116, United States
URL:https://thepaintandpour.com/event/thirsty-thursday-wine-glass-beer-mug-painting-jan-4th-7-9-pm/
END:VEVENT
END:VCALENDAR