BEGIN:VCALENDAR
VERSION:2.0
PRODID:-//Paint &amp; Pour - ECPv2.0.11//NONSGML v1.0//EN
CALSCALE:GREGORIAN
METHOD:PUBLISH
X-WR-CALNAME:Paint &amp; Pour
X-ORIGINAL-URL:https://thepaintandpour.com
X-WR-CALDESC:Events for Paint &amp; Pour
X-WR-TIMEZONE:America/Detroit
BEGIN:VEVENT
DTSTART;VALUE=DATE-TIME:20181222T190000
DTEND;VALUE=DATE-TIME:20181222T210000.000000
DTSTAMP:20260423T123147
CREATED:20181009T225416
LAST-MODIFIED:20181009T225416
UID:404170-1545505200-@https://thepaintandpour.com
SUMMARY:The Road Less Traveled - Dec 22nd 7-9 PM
DESCRIPTION:&nbsp;  The Road Less Traveled  &nbsp;
LOCATION:22000 Michigan Ave, Dearborn, MI, 48124, United States
URL:https://thepaintandpour.com/event/the-road-less-traveled-dec-22nd-7-9-pm/
END:VEVENT
END:VCALENDAR