BEGIN:VCALENDAR
VERSION:2.0
PRODID:-//Paint &amp; Pour - ECPv2.0.11//NONSGML v1.0//EN
CALSCALE:GREGORIAN
METHOD:PUBLISH
X-WR-CALNAME:Paint &amp; Pour
X-ORIGINAL-URL:https://thepaintandpour.com
X-WR-CALDESC:Events for Paint &amp; Pour
X-WR-TIMEZONE:America/Detroit
BEGIN:VEVENT
DTSTART;VALUE=DATE-TIME:20190422T183000
DTEND;VALUE=DATE-TIME:20190422T213000.000000
DTSTAMP:20260423T141208
CREATED:20190207T222648
LAST-MODIFIED:20190207T222648
UID:425347-1555957800-@https://thepaintandpour.com
SUMMARY:The Road Less Traveled - Apr 22nd 6:30-9:30 PM
DESCRIPTION:&nbsp;  The Road Less Traveled  &nbsp;    &nbsp;
LOCATION:111 South West St, Brighton, MI, 48116, United States
URL:https://thepaintandpour.com/event/the-road-less-traveled-apr-22nd-630-930-pm/
END:VEVENT
END:VCALENDAR