BEGIN:VCALENDAR
VERSION:2.0
PRODID:-//Paint &amp; Pour - ECPv2.0.11//NONSGML v1.0//EN
CALSCALE:GREGORIAN
METHOD:PUBLISH
X-WR-CALNAME:Paint &amp; Pour
X-ORIGINAL-URL:https://thepaintandpour.com
X-WR-CALDESC:Events for Paint &amp; Pour
X-WR-TIMEZONE:America/Detroit
BEGIN:VEVENT
DTSTART;VALUE=DATE-TIME:20180912T190000
DTEND;VALUE=DATE-TIME:20180912T210000.000000
DTSTAMP:20260423T111614
CREATED:20180905T181256
LAST-MODIFIED:20180905T181256
UID:401193-1536778800-@https://thepaintandpour.com
SUMMARY:Taania & Jyoti Turn 23! - Through the Woods - Sep 12th 7-9 PM
DESCRIPTION:Through the Woods  Taania &amp; Jyoti Turn 23!  PRIVATE PARTY
LOCATION:5 S Washington St, Ypsilanti, MI, 48197, United States
URL:https://thepaintandpour.com/event/taania-jyoti-turn-23-through-the-woods-sep-12th-7-9-pm/
END:VEVENT
END:VCALENDAR