BEGIN:VCALENDAR
VERSION:2.0
PRODID:-//Paint &amp; Pour - ECPv2.0.11//NONSGML v1.0//EN
CALSCALE:GREGORIAN
METHOD:PUBLISH
X-WR-CALNAME:Paint &amp; Pour
X-ORIGINAL-URL:https://thepaintandpour.com
X-WR-CALDESC:Events for Paint &amp; Pour
X-WR-TIMEZONE:America/Detroit
BEGIN:VEVENT
DTSTART;VALUE=DATE-TIME:20190718T190000
DTEND;VALUE=DATE-TIME:20190718T210000.000000
DTSTAMP:20260425T113336
CREATED:20190513T212026
LAST-MODIFIED:20190706T112214
UID:436051-1563476400-@https://thepaintandpour.com
SUMMARY:Swing Time - Jul 18th 7-9 PM
DESCRIPTION:&nbsp;  Swing Time  &nbsp;    &nbsp;
LOCATION:5 S Washington St, Ypsilanti, MI, 48197, United States
URL:https://thepaintandpour.com/event/swing-time-jul-18th-7-9-pm/
END:VEVENT
END:VCALENDAR