BEGIN:VCALENDAR
VERSION:2.0
PRODID:-//Paint &amp; Pour - ECPv2.0.11//NONSGML v1.0//EN
CALSCALE:GREGORIAN
METHOD:PUBLISH
X-WR-CALNAME:Paint &amp; Pour
X-ORIGINAL-URL:https://thepaintandpour.com
X-WR-CALDESC:Events for Paint &amp; Pour
X-WR-TIMEZONE:America/Detroit
BEGIN:VEVENT
DTSTART;VALUE=DATE-TIME:20180728T150000
DTEND;VALUE=DATE-TIME:20180728T170000.000000
DTSTAMP:20260424T210734
CREATED:20180507T233710
LAST-MODIFIED:20180507T233710
UID:391177-1532790000-@https://thepaintandpour.com
SUMMARY:Sunset at Saugatuck - Jul 28th 3-5 PM
DESCRIPTION:&nbsp;  Sunset at Saugatuck  &nbsp;    &nbsp;
LOCATION:22000 Michigan Ave, Dearborn, MI, 48124, United States
URL:https://thepaintandpour.com/event/sunset-at-saugatuck-jul-28th-3-5-pm/
END:VEVENT
END:VCALENDAR