BEGIN:VCALENDAR
VERSION:2.0
PRODID:-//Paint &amp; Pour - ECPv2.0.11//NONSGML v1.0//EN
CALSCALE:GREGORIAN
METHOD:PUBLISH
X-WR-CALNAME:Paint &amp; Pour
X-ORIGINAL-URL:https://thepaintandpour.com
X-WR-CALDESC:Events for Paint &amp; Pour
X-WR-TIMEZONE:America/Detroit
BEGIN:VEVENT
DTSTART;VALUE=DATE-TIME:20181123T190000
DTEND;VALUE=DATE-TIME:20181123T210000.000000
DTSTAMP:20260423T122757
CREATED:20180907T135713
LAST-MODIFIED:20180907T135713
UID:401368-1542999600-@https://thepaintandpour.com
SUMMARY:Sunrise on Superior - Nov 23rd 7-9 PM
DESCRIPTION:&nbsp;  Sunrise on Superior  &nbsp;
LOCATION:22000 Michigan Ave, Dearborn, MI, 48124, United States
URL:https://thepaintandpour.com/event/sunrise-on-superior-nov-23rd-7-9-pm/
END:VEVENT
END:VCALENDAR