BEGIN:VCALENDAR
VERSION:2.0
PRODID:-//Paint &amp; Pour - ECPv2.0.11//NONSGML v1.0//EN
CALSCALE:GREGORIAN
METHOD:PUBLISH
X-WR-CALNAME:Paint &amp; Pour
X-ORIGINAL-URL:https://thepaintandpour.com
X-WR-CALDESC:Events for Paint &amp; Pour
X-WR-TIMEZONE:America/Detroit
BEGIN:VEVENT
DTSTART;VALUE=DATE-TIME:20190510T190000
DTEND;VALUE=DATE-TIME:20190510T210000.000000
DTSTAMP:20260425T034743
CREATED:20190321T232032
LAST-MODIFIED:20190510T115354
UID:429600-1557514800-@https://thepaintandpour.com
SUMMARY:Sundown - May 10th 7-9 PM
DESCRIPTION:Sundown  &nbsp;    &nbsp;
LOCATION:5 S Washington St, Ypsilanti, MI, 48197, United States
URL:https://thepaintandpour.com/event/sundown-may-10th-7-9-pm/
END:VEVENT
END:VCALENDAR