BEGIN:VCALENDAR
VERSION:2.0
PRODID:-//Paint &amp; Pour - ECPv2.0.11//NONSGML v1.0//EN
CALSCALE:GREGORIAN
METHOD:PUBLISH
X-WR-CALNAME:Paint &amp; Pour
X-ORIGINAL-URL:https://thepaintandpour.com
X-WR-CALDESC:Events for Paint &amp; Pour
X-WR-TIMEZONE:America/Detroit
BEGIN:VEVENT
DTSTART;VALUE=DATE-TIME:20190810T190000
DTEND;VALUE=DATE-TIME:20190810T210000.000000
DTSTAMP:20260424T072550
CREATED:20190716T121335
LAST-MODIFIED:20190716T121335
UID:477920-1565463600-@https://thepaintandpour.com
SUMMARY:Sun and Moon - Aug 10th 7-9 PM
DESCRIPTION:Sun and Moon
LOCATION:5 S Washington St, Ypsilanti, MI, 48197, United States
URL:https://thepaintandpour.com/event/sun-and-moon-aug-10th-7-9-pm/
END:VEVENT
END:VCALENDAR