BEGIN:VCALENDAR
VERSION:2.0
PRODID:-//Paint &amp; Pour - ECPv2.0.11//NONSGML v1.0//EN
CALSCALE:GREGORIAN
METHOD:PUBLISH
X-WR-CALNAME:Paint &amp; Pour
X-ORIGINAL-URL:https://thepaintandpour.com
X-WR-CALDESC:Events for Paint &amp; Pour
X-WR-TIMEZONE:America/Detroit
BEGIN:VEVENT
DTSTART;VALUE=DATE-TIME:20190321T190000
DTEND;VALUE=DATE-TIME:20190321T220000.000000
DTSTAMP:20260423T212031
CREATED:20190304T155432
LAST-MODIFIED:20190311T172107
UID:427816-1553194800-@https://thepaintandpour.com
SUMMARY:SOLD OUT!!! Paint Your Pup - Paint Your Pet  - Mar 21st 7-10 PM
DESCRIPTION:&nbsp;  Paint Your Pup  Private Event  OFF SITE EVENT  Bub's &amp; Betty's  411 N. Main St.  Milford\, MI 48381  &nbsp;  Paint your pup at Bub's &amp; Betty's!  Join us for a night of fun where you can paint your actual pup!  Drinks &amp; snacks provided by Bub's &amp; Betty's enjoy 20% off any in store purchases made while attending the event!  INSTRUCTIONS:  1. Register for this class using the ticket form below.  2. Send a HEAD SHOT (see below for examples) of your pet to hannah@thepaintandpour.com by March 14th. Late submissions will have a $10 late fee attached to the ticket price.  All ticket sales will be cut off by March 18th.      WARNING: You MUST send in your pet’s picture by noon on March 14th (after purchasing your ticket) for us to have your canvas prepared. If you send in your picture late\, there will be an additional $10 fee applied.    3. Our artists will walk you through the steps to bring your pets sketch to life as an acrylic painted masterpiece of your very own!
LOCATION:MI, United States
URL:https://thepaintandpour.com/event/sold-out-paint-your-pup-paint-your-pet-mar-21st-7-10-pm/
END:VEVENT
END:VCALENDAR