BEGIN:VCALENDAR
VERSION:2.0
PRODID:-//Paint &amp; Pour - ECPv2.0.11//NONSGML v1.0//EN
CALSCALE:GREGORIAN
METHOD:PUBLISH
X-WR-CALNAME:Paint &amp; Pour
X-ORIGINAL-URL:https://thepaintandpour.com
X-WR-CALDESC:Events for Paint &amp; Pour
X-WR-TIMEZONE:America/Detroit
BEGIN:VEVENT
DTSTART;VALUE=DATE-TIME:20181110T190000
DTEND;VALUE=DATE-TIME:20181110T210000.000000
DTSTAMP:20260424T000740
CREATED:20180910T224621
LAST-MODIFIED:20181109T145028
UID:401603-1541876400-@https://thepaintandpour.com
SUMMARY:***SOLD OUT*** Dreamscape - Nov 10th 7-9 PM
DESCRIPTION:&nbsp;  Dreamscape  &nbsp;
LOCATION:111 South West St, Brighton, MI, 48116, United States
URL:https://thepaintandpour.com/event/sold-out-dreamscape-nov-10th-7-9-pm/
END:VEVENT
END:VCALENDAR