BEGIN:VCALENDAR
VERSION:2.0
PRODID:-//Paint &amp; Pour - ECPv2.0.11//NONSGML v1.0//EN
CALSCALE:GREGORIAN
METHOD:PUBLISH
X-WR-CALNAME:Paint &amp; Pour
X-ORIGINAL-URL:https://thepaintandpour.com
X-WR-CALDESC:Events for Paint &amp; Pour
X-WR-TIMEZONE:America/Detroit
BEGIN:VEVENT
DTSTART;VALUE=DATE-TIME:20190317T140000
DTEND;VALUE=DATE-TIME:20190317T160000.000000
DTSTAMP:20260423T094731
CREATED:20190110T205132
LAST-MODIFIED:20190308T185054
UID:422155-1552831200-@https://thepaintandpour.com
SUMMARY:***SOLD OUT*** (Ages 13+) Lonely Moon - Mar 17th 2-4 PM
DESCRIPTION:&nbsp;  Lonely Moon  &nbsp;
LOCATION:111 South West St, Brighton, MI, 48116, United States
URL:https://thepaintandpour.com/event/sold-out-ages-13-lonely-moon-mar-17th-2-4-pm/
END:VEVENT
END:VCALENDAR