BEGIN:VCALENDAR
VERSION:2.0
PRODID:-//Paint &amp; Pour - ECPv2.0.11//NONSGML v1.0//EN
CALSCALE:GREGORIAN
METHOD:PUBLISH
X-WR-CALNAME:Paint &amp; Pour
X-ORIGINAL-URL:https://thepaintandpour.com
X-WR-CALDESC:Events for Paint &amp; Pour
X-WR-TIMEZONE:America/Detroit
BEGIN:VEVENT
DTSTART;VALUE=DATE-TIME:20181002T180000
DTEND;VALUE=DATE-TIME:20181002T200000.000000
DTSTAMP:20260423T193252
CREATED:20180914T202545
LAST-MODIFIED:20180914T202545
UID:402017-1538503200-@https://thepaintandpour.com
SUMMARY:SMTree Offsite - Sun Down - Oct 2nd 6-8 PM
DESCRIPTION:Sun Down  SMTree Off Site  PRIVATE PARTY
LOCATION:5 S Washington St, Ypsilanti, MI, 48197, United States
URL:https://thepaintandpour.com/event/smtree-offsite-sun-down-oct-2nd-6-8-pm/
END:VEVENT
END:VCALENDAR