BEGIN:VCALENDAR
VERSION:2.0
PRODID:-//Paint &amp; Pour - ECPv2.0.11//NONSGML v1.0//EN
CALSCALE:GREGORIAN
METHOD:PUBLISH
X-WR-CALNAME:Paint &amp; Pour
X-ORIGINAL-URL:https://thepaintandpour.com
X-WR-CALDESC:Events for Paint &amp; Pour
X-WR-TIMEZONE:America/Detroit
BEGIN:VEVENT
DTSTART;VALUE=DATE-TIME:20181027T190000
DTEND;VALUE=DATE-TIME:20181027T210000.000000
DTSTAMP:20260424T134354
CREATED:20180815T173825
LAST-MODIFIED:20181026T190054
UID:398067-1540666800-@https://thepaintandpour.com
SUMMARY:Sleep Hollow - Oct 27th 7-9 PM
DESCRIPTION:Sleep Hollow  &nbsp;    &nbsp;
LOCATION:5 S Washington St, Ypsilanti, MI, 48197, United States
URL:https://thepaintandpour.com/event/sleep-hollow-oct-27th-7-9-pm/
END:VEVENT
END:VCALENDAR