BEGIN:VCALENDAR
VERSION:2.0
PRODID:-//Paint &amp; Pour - ECPv2.0.11//NONSGML v1.0//EN
CALSCALE:GREGORIAN
METHOD:PUBLISH
X-WR-CALNAME:Paint &amp; Pour
X-ORIGINAL-URL:https://thepaintandpour.com
X-WR-CALDESC:Events for Paint &amp; Pour
X-WR-TIMEZONE:America/Detroit
BEGIN:VEVENT
DTSTART;VALUE=DATE-TIME:20180329T183000
DTEND;VALUE=DATE-TIME:20180329T213000.000000
DTSTAMP:20260424T011528
CREATED:20180109T004709
LAST-MODIFIED:20180330T145851
UID:375262-1522348200-@https://thepaintandpour.com
SUMMARY:Short Cut - Mar 29th 6:30-9:30 PM
DESCRIPTION:&nbsp;  Short Cut  &nbsp;    Are YOU interested in having a private party with us?    Paint and Pour offers an incredible new way to spice up your next event. Let our Entertainer/Instructors guide your guests through an evening of art and merriment\, and they’ll be sure to talk about it for weeks! Paint and Pour private parties are great for ANY event\, so don’t hesitate.    Call us at (734) 720-9777 or Contact Us today to schedule your Paint Party!
LOCATION:10866 Cedar Lake Rd, Pinckney, MI, 48169, United States
URL:https://thepaintandpour.com/event/short-cut-mar-29th-630-930-pm-2/
END:VEVENT
END:VCALENDAR