BEGIN:VCALENDAR
VERSION:2.0
PRODID:-//Paint &amp; Pour - ECPv2.0.11//NONSGML v1.0//EN
CALSCALE:GREGORIAN
METHOD:PUBLISH
X-WR-CALNAME:Paint &amp; Pour
X-ORIGINAL-URL:https://thepaintandpour.com
X-WR-CALDESC:Events for Paint &amp; Pour
X-WR-TIMEZONE:America/Detroit
BEGIN:VEVENT
DTSTART;VALUE=DATE-TIME:20181006T153000
DTEND;VALUE=DATE-TIME:20181006T173000.000000
DTSTAMP:20260423T111011
CREATED:20180814T174631
LAST-MODIFIED:20180929T154516
UID:397965-1538839800-@https://thepaintandpour.com
SUMMARY:Shelby's 8th Birthday Party - Rock'n Rocket - Oct 6th 3:30-5:30 PM
DESCRIPTION:  Rock'n Rocket  Shelby's 8th Birthday Party  PRIVATE PARTY
LOCATION:22000 Michigan Ave, Dearborn, MI, 48124, United States
URL:https://thepaintandpour.com/event/shelbys-8th-birthday-party-rockn-rocket-oct-6th-330-530-pm/
END:VEVENT
END:VCALENDAR