BEGIN:VCALENDAR
VERSION:2.0
PRODID:-//Paint &amp; Pour - ECPv2.0.11//NONSGML v1.0//EN
CALSCALE:GREGORIAN
METHOD:PUBLISH
X-WR-CALNAME:Paint &amp; Pour
X-ORIGINAL-URL:https://thepaintandpour.com
X-WR-CALDESC:Events for Paint &amp; Pour
X-WR-TIMEZONE:America/Detroit
BEGIN:VEVENT
DTSTART;VALUE=DATE-TIME:20180805T120000
DTEND;VALUE=DATE-TIME:20180805T140000.000000
DTSTAMP:20260423T224823
CREATED:20180713T180237
LAST-MODIFIED:20180713T180237
UID:395616-1533470400-@https://thepaintandpour.com
SUMMARY:Sharon's Birthday Bash - Detroit Dawn - Aug 5th 12-2 PM
DESCRIPTION:  Detroit Dawn  Sharon's Birthday Bash  PRIVATE PARTY
LOCATION:22000 Michigan Ave, Dearborn, MI, 48124, United States
URL:https://thepaintandpour.com/event/sharons-birthday-bash-detroit-dawn-aug-5th-12-2-pm/
END:VEVENT
END:VCALENDAR