BEGIN:VCALENDAR
VERSION:2.0
PRODID:-//Paint &amp; Pour - ECPv2.0.11//NONSGML v1.0//EN
CALSCALE:GREGORIAN
METHOD:PUBLISH
X-WR-CALNAME:Paint &amp; Pour
X-ORIGINAL-URL:https://thepaintandpour.com
X-WR-CALDESC:Events for Paint &amp; Pour
X-WR-TIMEZONE:America/Detroit
BEGIN:VEVENT
DTSTART;VALUE=DATE-TIME:20190914T190000
DTEND;VALUE=DATE-TIME:20190914T210000.000000
DTSTAMP:20260424T041530
CREATED:20190819T140622
LAST-MODIFIED:20190819T140622
UID:503671-1568487600-@https://thepaintandpour.com
SUMMARY:Serenity - Sep 14th 7-9 PM
DESCRIPTION:Serenity
LOCATION:5 S Washington St, Ypsilanti, MI, 48197, United States
URL:https://thepaintandpour.com/event/serenity-sep-14th-7-9-pm/
END:VEVENT
END:VCALENDAR