BEGIN:VCALENDAR
VERSION:2.0
PRODID:-//Paint &amp; Pour - ECPv2.0.11//NONSGML v1.0//EN
CALSCALE:GREGORIAN
METHOD:PUBLISH
X-WR-CALNAME:Paint &amp; Pour
X-ORIGINAL-URL:https://thepaintandpour.com
X-WR-CALDESC:Events for Paint &amp; Pour
X-WR-TIMEZONE:America/Detroit
BEGIN:VEVENT
DTSTART;VALUE=DATE-TIME:20180723T190000
DTEND;VALUE=DATE-TIME:20180723T210000.000000
DTSTAMP:20260423T122829
CREATED:20180507T000513
LAST-MODIFIED:20180507T000513
UID:391027-1532372400-@https://thepaintandpour.com
SUMMARY:Serengeti Sunset - Jul 23rd 7-9 PM
DESCRIPTION:&nbsp;  Serengeti Sunset  &nbsp;    &nbsp;
LOCATION:22000 Michigan Ave, Dearborn, MI, 48124, United States
URL:https://thepaintandpour.com/event/serengeti-sunset-jul-23rd-7-9-pm/
END:VEVENT
END:VCALENDAR