BEGIN:VCALENDAR
VERSION:2.0
PRODID:-//Paint &amp; Pour - ECPv2.0.11//NONSGML v1.0//EN
CALSCALE:GREGORIAN
METHOD:PUBLISH
X-WR-CALNAME:Paint &amp; Pour
X-ORIGINAL-URL:https://thepaintandpour.com
X-WR-CALDESC:Events for Paint &amp; Pour
X-WR-TIMEZONE:America/Detroit
BEGIN:VEVENT
DTSTART;VALUE=DATE-TIME:20180819T153000
DTEND;VALUE=DATE-TIME:20180819T173000.000000
DTSTAMP:20260424T111048
CREATED:20180615T201201
LAST-MODIFIED:20180820T010438
UID:394221-1534692600-@https://thepaintandpour.com
SUMMARY:Secret Admirer 2 - Aug 19th 3:30-5:30 PM
DESCRIPTION:&nbsp;  Secret Admirer 2  &nbsp;    &nbsp;
LOCATION:5 S Washington St, Ypsilanti, MI, 48197, United States
URL:https://thepaintandpour.com/event/secret-admirer-2-aug-19th-330-530-pm/
END:VEVENT
END:VCALENDAR