BEGIN:VCALENDAR
VERSION:2.0
PRODID:-//Paint &amp; Pour - ECPv2.0.11//NONSGML v1.0//EN
CALSCALE:GREGORIAN
METHOD:PUBLISH
X-WR-CALNAME:Paint &amp; Pour
X-ORIGINAL-URL:https://thepaintandpour.com
X-WR-CALDESC:Events for Paint &amp; Pour
X-WR-TIMEZONE:America/Detroit
BEGIN:VEVENT
DTSTART;VALUE=DATE-TIME:20181229T170000
DTEND;VALUE=DATE-TIME:20181229T190000.000000
DTSTAMP:20260423T084908
CREATED:20181229T151441
LAST-MODIFIED:20181229T151441
UID:420927-1546102800-@https://thepaintandpour.com
SUMMARY:Sara's 40th Birthday - A River Runs Through It - Dec 29th 5-7 PM
DESCRIPTION:&nbsp;  A River Runs Through It  Sara's 40th Birthday  PRIVATE PARTY  Rivona Ranch  1407 Rivona  Waterford\, MI 48328
LOCATION:MI, United States
URL:https://thepaintandpour.com/event/saras-40th-birthday-a-river-runs-through-it-dec-29th-5-7-pm/
END:VEVENT
END:VCALENDAR