BEGIN:VCALENDAR
VERSION:2.0
PRODID:-//Paint &amp; Pour - ECPv2.0.11//NONSGML v1.0//EN
CALSCALE:GREGORIAN
METHOD:PUBLISH
X-WR-CALNAME:Paint &amp; Pour
X-ORIGINAL-URL:https://thepaintandpour.com
X-WR-CALDESC:Events for Paint &amp; Pour
X-WR-TIMEZONE:America/Detroit
BEGIN:VEVENT
DTSTART;VALUE=DATE-TIME:20190816T190000
DTEND;VALUE=DATE-TIME:20190816T210000.000000
DTSTAMP:20260424T104640
CREATED:20190716T122649
LAST-MODIFIED:20190716T122649
UID:477925-1565982000-@https://thepaintandpour.com
SUMMARY:Sandy Vista - Aug 16th 7-9 PM
DESCRIPTION:Sandy Vista
LOCATION:5 S Washington St, Ypsilanti, MI, 48197, United States
URL:https://thepaintandpour.com/event/sandy-vista-aug-16th-7-9-pm/
END:VEVENT
END:VCALENDAR