BEGIN:VCALENDAR
VERSION:2.0
PRODID:-//Paint &amp; Pour - ECPv2.0.11//NONSGML v1.0//EN
CALSCALE:GREGORIAN
METHOD:PUBLISH
X-WR-CALNAME:Paint &amp; Pour
X-ORIGINAL-URL:https://thepaintandpour.com
X-WR-CALDESC:Events for Paint &amp; Pour
X-WR-TIMEZONE:America/Detroit
BEGIN:VEVENT
DTSTART;VALUE=DATE-TIME:20181011T190000
DTEND;VALUE=DATE-TIME:20181011T210000.000000
DTSTAMP:20260424T135046
CREATED:20180815T124348
LAST-MODIFIED:20180925T234726
UID:398042-1539284400-@https://thepaintandpour.com
SUMMARY:Righteous Roots - Oct 11th 7-9 PM
DESCRIPTION:Righteous Roots  With CURTIS!  &nbsp;    &nbsp;
LOCATION:5 S Washington St, Ypsilanti, MI, 48197, United States
URL:https://thepaintandpour.com/event/righteous-roots-oct-11th-7-9-pm/
END:VEVENT
END:VCALENDAR