BEGIN:VCALENDAR
VERSION:2.0
PRODID:-//Paint &amp; Pour - ECPv2.0.11//NONSGML v1.0//EN
CALSCALE:GREGORIAN
METHOD:PUBLISH
X-WR-CALNAME:Paint &amp; Pour
X-ORIGINAL-URL:https://thepaintandpour.com
X-WR-CALDESC:Events for Paint &amp; Pour
X-WR-TIMEZONE:America/Detroit
BEGIN:VEVENT
DTSTART;VALUE=DATE-TIME:20190920T190000
DTEND;VALUE=DATE-TIME:20190920T210000.000000
DTSTAMP:20260425T000322
CREATED:20190819T141259
LAST-MODIFIED:20190920T120535
UID:503675-1569006000-@https://thepaintandpour.com
SUMMARY:Rest Stop - Sep 20th 7-9 PM
DESCRIPTION:Rest Stop
LOCATION:5 S Washington St, Ypsilanti, MI, 48197, United States
URL:https://thepaintandpour.com/event/rest-stop-sep-20th-7-9-pm/
END:VEVENT
END:VCALENDAR