BEGIN:VCALENDAR
VERSION:2.0
PRODID:-//Paint &amp; Pour - ECPv2.0.11//NONSGML v1.0//EN
CALSCALE:GREGORIAN
METHOD:PUBLISH
X-WR-CALNAME:Paint &amp; Pour
X-ORIGINAL-URL:https://thepaintandpour.com
X-WR-CALDESC:Events for Paint &amp; Pour
X-WR-TIMEZONE:America/Detroit
BEGIN:VEVENT
DTSTART;VALUE=DATE-TIME:20180325T153000
DTEND;VALUE=DATE-TIME:20180325T173000.000000
DTSTAMP:20260419T180149
CREATED:20171230T002352
LAST-MODIFIED:20180326T112353
UID:374299-1521991800-@https://thepaintandpour.com
SUMMARY:Requested Painting: The Secret Admirer 2 - Mar 25th 3:30-5:30 PM
DESCRIPTION:&nbsp;  The Secret Admirer 2  &nbsp;    Are YOU interested in having a private party with us?    Paint and Pour offers an incredible new way to spice up your next event. Let our Entertainer/Instructors guide your guests through an evening of art and merriment\, and they’ll be sure to talk about it for weeks! Paint and Pour private parties are great for ANY event\, so don’t hesitate.    Call us at (734) 720-9777 or Contact Us today to schedule your Paint Party!
LOCATION:22000 Michigan Ave, Dearborn, MI, 48124, United States
URL:https://thepaintandpour.com/event/requested-painting-the-secret-admirer-2-mar-25th-330-530-pm/
END:VEVENT
END:VCALENDAR