BEGIN:VCALENDAR
VERSION:2.0
PRODID:-//Paint &amp; Pour - ECPv2.0.11//NONSGML v1.0//EN
CALSCALE:GREGORIAN
METHOD:PUBLISH
X-WR-CALNAME:Paint &amp; Pour
X-ORIGINAL-URL:https://thepaintandpour.com
X-WR-CALDESC:Events for Paint &amp; Pour
X-WR-TIMEZONE:America/Detroit
BEGIN:VEVENT
DTSTART;VALUE=DATE-TIME:20190213T190000
DTEND;VALUE=DATE-TIME:20190213T210000.000000
DTSTAMP:20260424T204923
CREATED:20181213T232055
LAST-MODIFIED:20190212T140326
UID:419441-1550084400-@https://thepaintandpour.com
SUMMARY:Reflections - Feb 13th 7-9 PM
DESCRIPTION:&nbsp;  Reflections  &nbsp;
LOCATION:111 South West St, Brighton, MI, 48116, United States
URL:https://thepaintandpour.com/event/reflections-feb-13th-7-9-pm/
END:VEVENT
END:VCALENDAR