BEGIN:VCALENDAR
VERSION:2.0
PRODID:-//Paint &amp; Pour - ECPv2.0.11//NONSGML v1.0//EN
CALSCALE:GREGORIAN
METHOD:PUBLISH
X-WR-CALNAME:Paint &amp; Pour
X-ORIGINAL-URL:https://thepaintandpour.com
X-WR-CALDESC:Events for Paint &amp; Pour
X-WR-TIMEZONE:America/Detroit
BEGIN:VEVENT
DTSTART;VALUE=DATE-TIME:20190824T150000
DTEND;VALUE=DATE-TIME:20190824T170000.000000
DTSTAMP:20260424T082321
CREATED:20190716T142649
LAST-MODIFIED:20190716T142649
UID:477951-1566658800-@https://thepaintandpour.com
SUMMARY:Reflections - Aug 24th 3-5 PM
DESCRIPTION:&nbsp;  Reflections  &nbsp;    &nbsp;
LOCATION:5 S Washington St, Ypsilanti, MI, 48197, United States
URL:https://thepaintandpour.com/event/reflections-aug-24th-3-5-pm/
END:VEVENT
END:VCALENDAR