BEGIN:VCALENDAR
VERSION:2.0
PRODID:-//Paint &amp; Pour - ECPv2.0.11//NONSGML v1.0//EN
CALSCALE:GREGORIAN
METHOD:PUBLISH
X-WR-CALNAME:Paint &amp; Pour
X-ORIGINAL-URL:https://thepaintandpour.com
X-WR-CALDESC:Events for Paint &amp; Pour
X-WR-TIMEZONE:America/Detroit
BEGIN:VEVENT
DTSTART;VALUE=DATE-TIME:20180520T153000
DTEND;VALUE=DATE-TIME:20180520T173000.000000
DTSTAMP:20260419T145156
CREATED:20180419T152731
LAST-MODIFIED:20180514T150724
UID:388876-1526830200-@https://thepaintandpour.com
SUMMARY:Rachel's Bachelorette Party - Meghan's Daisies - May 20th 3:30-5:30 PM
DESCRIPTION:  Meghan's Daisies  Rachel's Bachelorette Party  PRIVATE PARTY  Join us for Rachel's bachelorette Party! Bring your wine and be ready for a good time!
LOCATION:111 South West St, Brighton, MI, 48116, United States
URL:https://thepaintandpour.com/event/rachels-bachelorette-party-meghans-daisies-may-20th-330-530-pm/
END:VEVENT
END:VCALENDAR