BEGIN:VCALENDAR
VERSION:2.0
PRODID:-//Paint &amp; Pour - ECPv2.0.11//NONSGML v1.0//EN
CALSCALE:GREGORIAN
METHOD:PUBLISH
X-WR-CALNAME:Paint &amp; Pour
X-ORIGINAL-URL:https://thepaintandpour.com
X-WR-CALDESC:Events for Paint &amp; Pour
X-WR-TIMEZONE:America/Detroit
BEGIN:VEVENT
DTSTART;VALUE=DATE-TIME:20191012T190000
DTEND;VALUE=DATE-TIME:20191012T210000.000000
DTSTAMP:20260424T110415
CREATED:20190902T234544
LAST-MODIFIED:20190911T171056
UID:533945-1570906800-@https://thepaintandpour.com
SUMMARY:Public Single's Mixer - Infinity's Edge - Oct 12th 7-9 PM
DESCRIPTION:Public Single's Mixer  Infinity's Edge  Single's Mixer for Match.com  This is a joint event with Match.com.   They are selling tickets to the event on their dating website\, specifically as a single's mixer.  However\, we have reserved a small amount of tickets for Paint and Pour guests.  The event runs similar to our standard classes\, but guests periodically move around the room to have a chance to meet and chat with other potential singles.  If that sounds like it would be fun for you\, then sign on up and join in on the fun!    &nbsp;
LOCATION:5 S Washington St, Ypsilanti, MI, 48197, United States
URL:https://thepaintandpour.com/event/public-singles-mixer-infinitys-edge-oct-12th-7-9-pm/
END:VEVENT
END:VCALENDAR