BEGIN:VCALENDAR
VERSION:2.0
PRODID:-//Paint &amp; Pour - ECPv2.0.11//NONSGML v1.0//EN
CALSCALE:GREGORIAN
METHOD:PUBLISH
X-WR-CALNAME:Paint &amp; Pour
X-ORIGINAL-URL:https://thepaintandpour.com
X-WR-CALDESC:Events for Paint &amp; Pour
X-WR-TIMEZONE:America/Detroit
BEGIN:VEVENT
DTSTART;VALUE=DATE-TIME:20180221T180000
DTEND;VALUE=DATE-TIME:20180221T200000.000000
DTSTAMP:20260423T112325
CREATED:20180219T144140
LAST-MODIFIED:20180219T144140
UID:380435-1519236000-@https://thepaintandpour.com
SUMMARY:Public FUNdraiser: Women's Council of Realtors - Livingston Network Members Night Out - Apology Accepted - Feb 21st 6-8 PM
DESCRIPTION:&nbsp;  Apology Accepted  Women's Council of Realtors - Livingston Network Members Night Out  Charity Website: http://www.wcr.org/chapter-sites/michigan/livingston/  Facebook Page: https://www.facebook.com/livingstoncountryWCR    PUBLIC FUNdraiser  Join Women's Council of Realtors in a night out!  Food\, drinks\, &amp; painting are on the agenda! It will be a great time!  Bring a friend!  Are YOU interested in having a private party with us?    Paint and Pour offers an incredible new way to spice up your next event. Let our Entertainer/Instructors guide your guests through an evening of art and merriment\, and they’ll be sure to talk about it for weeks! Paint and Pour private parties are great for ANY event\, so don’t hesitate.    Call us at (734) 720-9777 or Contact Us today to schedule your Paint Party!
LOCATION:111 South West St, Brighton, MI, 48116, United States
URL:https://thepaintandpour.com/event/public-fundraiser-womens-council-of-realtors-livingston-network-members-night-out-apology-accepted-feb-21st-6-8-pm/
END:VEVENT
END:VCALENDAR