BEGIN:VCALENDAR
VERSION:2.0
PRODID:-//Paint &amp; Pour - ECPv2.0.11//NONSGML v1.0//EN
CALSCALE:GREGORIAN
METHOD:PUBLISH
X-WR-CALNAME:Paint &amp; Pour
X-ORIGINAL-URL:https://thepaintandpour.com
X-WR-CALDESC:Events for Paint &amp; Pour
X-WR-TIMEZONE:America/Detroit
BEGIN:VEVENT
DTSTART;VALUE=DATE-TIME:20180328T190000
DTEND;VALUE=DATE-TIME:20180328T210000.000000
DTSTAMP:20260423T125445
CREATED:20180320T190614
LAST-MODIFIED:20180320T191809
UID:383143-1522263600-@https://thepaintandpour.com
SUMMARY:Public FUNdraiser - UNICEF at the University of Michigan Paint & Pour Night - Through the Woods - Mar 28th 7-9 PM
DESCRIPTION:&nbsp;    &nbsp;  Through the Woods  UNICEF at the University of Michigan Paint &amp; Pour Night  Public FUNdraiser  https://www.unicefusa.org  http://www.facebook.com/unicefumich/  Come and join UNICEF at the University of Michigan to help raise funds for UNICEF USA to provide children with healthcare\, education\, &amp; other necessities.    &nbsp;    &nbsp;
LOCATION:5 S Washington St, Ypsilanti, MI, 48197, United States
URL:https://thepaintandpour.com/event/public-fundraiser-unicef-at-the-university-of-michigan-paint-pour-night-through-the-woods-mar-28th-7-9-pm/
END:VEVENT
END:VCALENDAR