BEGIN:VCALENDAR
VERSION:2.0
PRODID:-//Paint &amp; Pour - ECPv2.0.11//NONSGML v1.0//EN
CALSCALE:GREGORIAN
METHOD:PUBLISH
X-WR-CALNAME:Paint &amp; Pour
X-ORIGINAL-URL:https://thepaintandpour.com
X-WR-CALDESC:Events for Paint &amp; Pour
X-WR-TIMEZONE:America/Detroit
BEGIN:VEVENT
DTSTART;VALUE=DATE-TIME:20181023T183000
DTEND;VALUE=DATE-TIME:20181023T203000.000000
DTSTAMP:20260423T112609
CREATED:20180914T142159
LAST-MODIFIED:20180919T231221
UID:401946-1540319400-@https://thepaintandpour.com
SUMMARY:Public FUNdraiser: St. Julian's Cat Care Rescue FUNdraiser - Happy Trails - Oct 23rd 6:30-8:30 PM
DESCRIPTION:&nbsp;  Happy Trails  St Julian's Cat Care Rescue FUNdraiser  PUBLIC FUNdraiser  http://www.facebook.com/stjulianscatcarerescue  Dr. Dickie does an amazing job\, I wanted to do something for her to help contribute to her cat rescue. Paint &amp; Pour will donate a portion of their proceeds as long as we sell at least 15 tickets. You don't need any artistic skill\, their artists are skilled and will guide everyone to paint a great painting!  So please invite your friends &amp; family to join us at this event!  They do allow us to bring our own beer &amp; wine to be consumed while we paint &amp; finger foods.  Please come join us and have some fun all while contributing to a great cause!  If you have any questions\, comments\, or suggestions\, please e-mail me at cdakroub84@gmail.com!
LOCATION:22000 Michigan Ave, Dearborn, MI, 48124, United States
URL:https://thepaintandpour.com/event/public-fundraiser-st-julians-cat-care-rescue-fundraiser-happy-trails-oct-23rd-630-830-pm/
END:VEVENT
END:VCALENDAR