BEGIN:VCALENDAR
VERSION:2.0
PRODID:-//Paint &amp; Pour - ECPv2.0.11//NONSGML v1.0//EN
CALSCALE:GREGORIAN
METHOD:PUBLISH
X-WR-CALNAME:Paint &amp; Pour
X-ORIGINAL-URL:https://thepaintandpour.com
X-WR-CALDESC:Events for Paint &amp; Pour
X-WR-TIMEZONE:America/Detroit
BEGIN:VEVENT
DTSTART;VALUE=DATE-TIME:20190308T190000
DTEND;VALUE=DATE-TIME:20190308T210000.000000
DTSTAMP:20260423T225357
CREATED:20190110T184031
LAST-MODIFIED:20190110T193351
UID:422119-1552071600-@https://thepaintandpour.com
SUMMARY:Public FUNdraiser - Paint & Pour with HASO - Sunrise on Superior - Mar 8th 7-9 PM
DESCRIPTION:&nbsp;  Sunrise on Superior  Paint &amp; Pour with HASO  Public FUNdraiser  https://www.facebook.com/HASOEMU/  Help support HASO by having fun &amp; hanging out with us!  A portion of each ticket bought goes towards funding our organization so we can keep volunteering\, helping\, &amp; networking through our community. Alcoholic beverages will be available to purchase from HASO on site\, as well as non-alcoholic beverages.    &nbsp;
LOCATION:5 S Washington St, Ypsilanti, MI, 48197, United States
URL:https://thepaintandpour.com/event/public-fundraiser-paint-pour-with-haso-sunrise-on-superior-mar-8th-7-9-pm/
END:VEVENT
END:VCALENDAR