BEGIN:VCALENDAR
VERSION:2.0
PRODID:-//Paint &amp; Pour - ECPv2.0.11//NONSGML v1.0//EN
CALSCALE:GREGORIAN
METHOD:PUBLISH
X-WR-CALNAME:Paint &amp; Pour
X-ORIGINAL-URL:https://thepaintandpour.com
X-WR-CALDESC:Events for Paint &amp; Pour
X-WR-TIMEZONE:America/Detroit
BEGIN:VEVENT
DTSTART;VALUE=DATE-TIME:20181109T190000
DTEND;VALUE=DATE-TIME:20181109T210000.000000
DTSTAMP:20260419T161446
CREATED:20180330T171234
LAST-MODIFIED:20181109T162010
UID:384069-1541790000-@https://thepaintandpour.com
SUMMARY:Public FUNdraiser - Joy! - Nov 9th 7-9 PM
DESCRIPTION:  Joy!  Public FUNdraiser  facebook.com/stcyprian  www.stcyprian.com  Join us for an evening of fun\, painting &amp; laughs! Food\, wine\, and all painting supplies included!  &nbsp;  Hosted at: St Cyprian Social Hall  13249 Pennsylvania\, Riverview\, MI 48193    &nbsp;
LOCATION:MI, United States
URL:https://thepaintandpour.com/event/public-fundraiser-joy-nov-9th-7-9-pm/
END:VEVENT
END:VCALENDAR