BEGIN:VCALENDAR
VERSION:2.0
PRODID:-//Paint &amp; Pour - ECPv2.0.11//NONSGML v1.0//EN
CALSCALE:GREGORIAN
METHOD:PUBLISH
X-WR-CALNAME:Paint &amp; Pour
X-ORIGINAL-URL:https://thepaintandpour.com
X-WR-CALDESC:Events for Paint &amp; Pour
X-WR-TIMEZONE:America/Detroit
BEGIN:VEVENT
DTSTART;VALUE=DATE-TIME:20181118T130000
DTEND;VALUE=DATE-TIME:20181118T150000.000000
DTSTAMP:20260423T181022
CREATED:20180724T194027
LAST-MODIFIED:20180724T194027
UID:396289-1542546000-@https://thepaintandpour.com
SUMMARY:Public FUNdraiser: #HAW2018 - Snowman - Nov 18th 1-3 PM
DESCRIPTION:&nbsp;  Snowman  #HAW2018  Facebook Page: https://www.facebook.com/homelessccc    PUBLIC FUNdraiser  This is a FUNdraiser for the HCCC (Homeless Continuum of Care Committee). All proceeds go towards assisting homeless families\, individuals\, and veterans in Livingston County.  We appreciate all support!  &nbsp;
LOCATION:111 South West St, Brighton, MI, 48116, United States
URL:https://thepaintandpour.com/event/public-fundraiser-haw2018-snowman-nov-18th-1-3-pm/
END:VEVENT
END:VCALENDAR