BEGIN:VCALENDAR
VERSION:2.0
PRODID:-//Paint &amp; Pour - ECPv2.0.11//NONSGML v1.0//EN
CALSCALE:GREGORIAN
METHOD:PUBLISH
X-WR-CALNAME:Paint &amp; Pour
X-ORIGINAL-URL:https://thepaintandpour.com
X-WR-CALDESC:Events for Paint &amp; Pour
X-WR-TIMEZONE:America/Detroit
BEGIN:VEVENT
DTSTART;VALUE=DATE-TIME:20180309T190000
DTEND;VALUE=DATE-TIME:20180309T210000.000000
DTSTAMP:20260419T221938
CREATED:20170830T195442
LAST-MODIFIED:20180309T105459
UID:364848-1520622000-@https://thepaintandpour.com
SUMMARY:Public FUNdraiser - Becoming an Urban Outdoors Woman Paint & Pour - Custom Art by Lee - Mar 9th 7-9 PM
DESCRIPTION:&nbsp;  Custom Art by Lee  Becoming an Urban Outdoors Woman Paint &amp; Pour  Public FUNdraiser  DNR Outdoor Adventure Center  1801 Atwater  Detroit\, MI 48207  Join us for an introduction to our upcoming program\, Becoming an Urban Outdoors Woman (BUOW)!  If you are interested in outdoor activities\, but aren't sure where to start\, this will be perfect for you!  Bring a friend to sip some wine while painting an urban nature scene!    Are YOU interested in having a private party with us?    Paint and Pour offers an incredible new way to spice up your next event. Let our Entertainer/Instructors guide your guests through an evening of art and merriment\, and they’ll be sure to talk about it for weeks! Paint and Pour private parties are great for ANY event\, so don’t hesitate.    Call us at (734) 720-9777 or Contact Us today to schedule your Paint Party!    &nbsp;
LOCATION:1801 Atwater, Detroit, MI, 48207, United States
URL:https://thepaintandpour.com/event/public-fundraiser-becoming-an-urban-outdoors-woman-paint-pour-custom-art-by-lee-mar-9th-7-9-pm-2/
END:VEVENT
END:VCALENDAR