BEGIN:VCALENDAR
VERSION:2.0
PRODID:-//Paint &amp; Pour - ECPv2.0.11//NONSGML v1.0//EN
CALSCALE:GREGORIAN
METHOD:PUBLISH
X-WR-CALNAME:Paint &amp; Pour
X-ORIGINAL-URL:https://thepaintandpour.com
X-WR-CALDESC:Events for Paint &amp; Pour
X-WR-TIMEZONE:America/Detroit
BEGIN:VEVENT
DTSTART;VALUE=DATE-TIME:20190326T190000
DTEND;VALUE=DATE-TIME:20190326T210000.000000
DTSTAMP:20260423T222555
CREATED:20190115T211542
LAST-MODIFIED:20190326T122845
UID:422809-1553626800-@https://thepaintandpour.com
SUMMARY:Pretty in Pink - Mar 26th 7-9 PM
DESCRIPTION:&nbsp;  Pretty in Pink  &nbsp;    &nbsp;
LOCATION:5 S Washington St, Ypsilanti, MI, 48197, United States
URL:https://thepaintandpour.com/event/pretty-in-pink-mar-26th-7-9-pm/
END:VEVENT
END:VCALENDAR