BEGIN:VCALENDAR
VERSION:2.0
PRODID:-//Paint &amp; Pour - ECPv2.0.11//NONSGML v1.0//EN
CALSCALE:GREGORIAN
METHOD:PUBLISH
X-WR-CALNAME:Paint &amp; Pour
X-ORIGINAL-URL:https://thepaintandpour.com
X-WR-CALDESC:Events for Paint &amp; Pour
X-WR-TIMEZONE:America/Detroit
BEGIN:VEVENT
DTSTART;VALUE=DATE-TIME:20180606T190000
DTEND;VALUE=DATE-TIME:20180606T210000.000000
DTSTAMP:20260424T114908
CREATED:20180409T221153
LAST-MODIFIED:20180409T221153
UID:384875-1528311600-@https://thepaintandpour.com
SUMMARY:Pretty in Pink - Jun 6th 7-9 PM
DESCRIPTION:&nbsp;  Pretty in Pink  &nbsp;
LOCATION:111 South West St, Brighton, MI, 48116, United States
URL:https://thepaintandpour.com/event/pretty-in-pink-jun-6th-7-9-pm/
END:VEVENT
END:VCALENDAR