BEGIN:VCALENDAR
VERSION:2.0
PRODID:-//Paint &amp; Pour - ECPv2.0.11//NONSGML v1.0//EN
CALSCALE:GREGORIAN
METHOD:PUBLISH
X-WR-CALNAME:Paint &amp; Pour
X-ORIGINAL-URL:https://thepaintandpour.com
X-WR-CALDESC:Events for Paint &amp; Pour
X-WR-TIMEZONE:America/Detroit
BEGIN:VEVENT
DTSTART;VALUE=DATE-TIME:20180331T153000
DTEND;VALUE=DATE-TIME:20180331T173000.000000
DTSTAMP:20260423T165458
CREATED:20180227T184730
LAST-MODIFIED:20180227T184730
UID:380900-1522510200-@https://thepaintandpour.com
SUMMARY:Parent Paint Out with Kids - Call Box in Space - Mar 31st 3:30-5:30 PM
DESCRIPTION:Call Box in Space  Parent Paint Out with Kids  PRIVATE PARTY  Become a time traveler and get lost in your imagination while painting the T.A.R.D.I.S with family &amp; friends of all ages &amp; alien species!  Are YOU interested in having a private party with us?  Paint and Pour offers an incredible new way to spice up your next event. Let our Entertainer/Instructors guide your guests through an evening of art and merriment and they’ll be sure to talk about it for weeks! Paint and Pour private parties are great for ANY event so don’t hesitate.  Call us at (734) 720-9777 or Contact Us today to schedule your Paint Party!
LOCATION:5 S Washington St, Ypsilanti, MI, 48197, United States
URL:https://thepaintandpour.com/event/parent-paint-out-with-kids-call-box-in-space-mar-31st-330-530-pm/
END:VEVENT
END:VCALENDAR